BEGIN:VCALENDAR
VERSION:2.0
PRODID:gruene-werder.de
METHOD:PUBLISH
BEGIN:VTIMEZONE
TZID:Europe/Berlin
X-LIC-LOCATION:Europe/Berlin
BEGIN:DAYLIGHT
TZOFFSETFROM:+0100
TZOFFSETTO:+0200
TZNAME:CEST
DTSTART:19700329T020000
RRULE:FREQ=YEARLY;INTERVAL=1;BYDAY=-1SU;BYMONTH=3
END:DAYLIGHT
BEGIN:STANDARD
TZOFFSETFROM:+0200
TZOFFSETTO:+0100
TZNAME:CET
DTSTART:19701025T030000
RRULE:FREQ=YEARLY;INTERVAL=1;BYDAY=-1SU;BYMONTH=10
END:STANDARD
END:VTIMEZONE
BEGIN:VEVENT
UID:73d129b1487f0ca17bedd9285065a9a1@gruene-werder.de
URL;VALUE=URI:https://gruene-werder.de/termine/empfehlung-motorboot-im-fi
 kus/
LOCATION:Uferhaus im Uferwerk, Luisenstr. 20D, Werder
SUMMARY:Empfehlung: Motorboot im Fokus
DESCRIPTION;ALTREP="data:text/html,%3Cp%3EVorstellung%20der%20Studie%20Su
 BoLakes%20durch%20Dr.%20Ralf%20K%C3%B6hler%3Cbr%20%2F%3E%0ADiskussion%2C%
 20Belastung%20der%20Havelseen%20bei%20Werder%3C%2Fp%3E":Vorstellung der S
 tudie SuBoLakes durch Dr. Ralf Köhler\n\nDiskussion\, Belastung der Have
 lseen bei Werder
CLASS:PUBLIC
DTSTART;TZID=Europe/Berlin:20260512T180000
DTEND;TZID=Europe/Berlin:20260512T200000
DTSTAMP:20260423T144156
END:VEVENT
END:VCALENDAR