BEGIN:VCALENDAR
VERSION:2.0
PRODID:gruene-werder.de
METHOD:PUBLISH
BEGIN:VTIMEZONE
TZID:Europe/Berlin
X-LIC-LOCATION:Europe/Berlin
BEGIN:DAYLIGHT
TZOFFSETFROM:+0100
TZOFFSETTO:+0200
TZNAME:CEST
DTSTART:19700329T020000
RRULE:FREQ=YEARLY;INTERVAL=1;BYDAY=-1SU;BYMONTH=3
END:DAYLIGHT
BEGIN:STANDARD
TZOFFSETFROM:+0200
TZOFFSETTO:+0100
TZNAME:CET
DTSTART:19701025T030000
RRULE:FREQ=YEARLY;INTERVAL=1;BYDAY=-1SU;BYMONTH=10
END:STANDARD
END:VTIMEZONE
BEGIN:VEVENT
UID:a46b24dffb13988ab45d916a781d0817@gruene-werder.de
URL;VALUE=URI:https://gruene-werder.de/termine/gruener-stammtisch-baumblu
 ete/
LOCATION:Kirschplantage des Biohof Werder
SUMMARY:Grüner Stammtisch Baumblüte
DESCRIPTION;ALTREP="data:text/html,%3Cp%3E%3C%2Fp%3E":
CLASS:PUBLIC
DTSTART;TZID=Europe/Berlin:20260503T150000
DTEND;TZID=Europe/Berlin:20260503T170000
DTSTAMP:20260423T143519
END:VEVENT
BEGIN:VEVENT
UID:5868a28bb41f13a136811a9195c19d7b@gruene-werder.de
URL;VALUE=URI:https://gruene-werder.de/termine/ov-treffen-8/
LOCATION:Eisenbahnstr. 156
SUMMARY:OV-Treffen
DESCRIPTION;ALTREP="data:text/html,%3Cp%3EAuswertung%20Baumbl%C3%BCte%3C%
 2Fp%3E":Auswertung Baumblüte
CLASS:PUBLIC
DTSTART;TZID=Europe/Berlin:20260511T190000
DTEND;TZID=Europe/Berlin:20260511T210000
DTSTAMP:20260423T143519
END:VEVENT
BEGIN:VEVENT
UID:14a79ee477fe32290c1685bbcfc36c89@gruene-werder.de
URL;VALUE=URI:https://gruene-werder.de/termine/empfehlung-motorboot-im-fi
 kus/
LOCATION:Uferhaus im Uferwerk, Luisenstr. 20D, Werder
SUMMARY:Empfehlung: Motorboot im Fokus
DESCRIPTION;ALTREP="data:text/html,%3Cp%3EVorstellung%20der%20Studie%20Su
 BoLakes%20durch%20Dr.%20Ralf%20K%C3%B6hler%3Cbr%20%2F%3E%0ADiskussion%2C%
 20Belastung%20der%20Havelseen%20bei%20Werder%3C%2Fp%3E":Vorstellung der S
 tudie SuBoLakes durch Dr. Ralf Köhler\n\nDiskussion\, Belastung der Have
 lseen bei Werder
CLASS:PUBLIC
DTSTART;TZID=Europe/Berlin:20260512T180000
DTEND;TZID=Europe/Berlin:20260512T200000
DTSTAMP:20260423T143519
END:VEVENT
BEGIN:VEVENT
UID:064527353d4f9146baf148cf820013a1@gruene-werder.de
URL;VALUE=URI:https://gruene-werder.de/termine/ov-treffen-10/
LOCATION:Eisenbahnstr. 156
SUMMARY:OV-Treffen
DESCRIPTION;ALTREP="data:text/html,%3Cp%3E%3C%2Fp%3E":
CLASS:PUBLIC
DTSTART;TZID=Europe/Berlin:20260608T190000
DTEND;TZID=Europe/Berlin:20260608T210000
DTSTAMP:20260423T143519
END:VEVENT
BEGIN:VEVENT
UID:5516470dc0ce924678ccfe13872e4ff6@gruene-werder.de
URL;VALUE=URI:https://gruene-werder.de/termine/ov-treffen-11/
LOCATION:Eisenbahnstr. 156
SUMMARY:OV-Treffen
DESCRIPTION;ALTREP="data:text/html,%3Cp%3E%3C%2Fp%3E":
CLASS:PUBLIC
DTSTART;TZID=Europe/Berlin:20260713T190000
DTEND;TZID=Europe/Berlin:20260713T210000
DTSTAMP:20260423T143519
END:VEVENT
BEGIN:VEVENT
UID:3d24488f3d4458816d9f4fe0a9961a8c@gruene-werder.de
URL;VALUE=URI:https://gruene-werder.de/termine/ov-treffen-12/
LOCATION:Eisenbahnstr. 156
SUMMARY:OV-Treffen
DESCRIPTION;ALTREP="data:text/html,%3Cp%3E%3C%2Fp%3E":
CLASS:PUBLIC
DTSTART;TZID=Europe/Berlin:20260810T190000
DTEND;TZID=Europe/Berlin:20260810T210000
DTSTAMP:20260423T143519
END:VEVENT
BEGIN:VEVENT
UID:3346fafeb52ea164408c905e7fa075a7@gruene-werder.de
URL;VALUE=URI:https://gruene-werder.de/termine/ov-treffen-13/
LOCATION:Eisenbahnstr. 156
SUMMARY:OV-Treffen
DESCRIPTION;ALTREP="data:text/html,%3Cp%3E%3C%2Fp%3E":
CLASS:PUBLIC
DTSTART;TZID=Europe/Berlin:20260914T190000
DTEND;TZID=Europe/Berlin:20260914T210000
DTSTAMP:20260423T143519
END:VEVENT
BEGIN:VEVENT
UID:858a28b27d427dbcca191dfc4c9fec8a@gruene-werder.de
URL;VALUE=URI:https://gruene-werder.de/termine/ov-treffen-14/
LOCATION:Eisenbahnstr. 156
SUMMARY:OV-Treffen
DESCRIPTION;ALTREP="data:text/html,%3Cp%3E%3C%2Fp%3E":
CLASS:PUBLIC
DTSTART;TZID=Europe/Berlin:20261012T190000
DTEND;TZID=Europe/Berlin:20261012T210000
DTSTAMP:20260423T143519
END:VEVENT
END:VCALENDAR